BEGIN:VCALENDAR
VERSION:2.0
PRODID:-//Tukios.com/
BEGIN:VEVENT
UID:b1b2ca56-ddb5-4d21-9af2-b9c2e935f8fa@www.danielsfuneral.com
DTSTAMP:20260424T021254Z
DTSTART:20260426T230000Z
DTEND:20260427T000000Z
SUMMARY:Prayer Service
DESCRIPTION:
URL:https://www.danielsfuneral.com/obituaries/anderson-hatfield
LOCATION:Daniel’s Family Funeral’s Chapel 7601 Wyoming Boulevard 
	Northeast  Albuquerque NM 87109
GEO:35.1673198;-106.5608479
END:VEVENT
END:VCALENDAR