BEGIN:VCALENDAR
VERSION:2.0
PRODID:-//Tukios.com/
BEGIN:VEVENT
UID:940fbda0-23e9-481a-8775-a074fe617f48@www.danielsfuneral.com
DTSTAMP:20260424T021713Z
DTSTART:20260427T160000Z
DTEND:20260427T170000Z
SUMMARY:Funeral Service
DESCRIPTION:
URL:https://www.danielsfuneral.com/obituaries/anderson-hatfield
LOCATION:Our Lady of the Anunciation 2621 Vermont Street Northeast  
	Albuquerque NM 87110
GEO:35.1121557;-106.554459
END:VEVENT
END:VCALENDAR