BEGIN:VCALENDAR
VERSION:2.0
PRODID:-//Tukios.com/
BEGIN:VEVENT
UID:2eefd050-2105-4134-9348-479658d8fef1@www.danielsfuneral.com
DTSTAMP:20260422T200548Z
DTSTART:20260507T153000Z
DTEND:20260507T160000Z
SUMMARY:Rosary
DESCRIPTION:
URL:https://www.danielsfuneral.com/obituaries/corrine-martinez
LOCATION: 5311 Phoenix Ave NE  Albuquerque NM 87110
GEO:35.1111814;-106.5838775
END:VEVENT
END:VCALENDAR