BEGIN:VCALENDAR
VERSION:2.0
PRODID:-//Tukios.com/
BEGIN:VEVENT
UID:1d8d6f58-d3dc-4bf6-a924-2c9984c2414e@www.danielsfuneral.com
DTSTAMP:20260422T200350Z
DTSTART:20260507T160000Z
DTEND:20260507T163000Z
SUMMARY:Mass
DESCRIPTION:
URL:https://www.danielsfuneral.com/obituaries/corrine-martinez
LOCATION: 5311 Phoenix Ave NE  Albuquerque NM 87110
GEO:35.1111814;-106.5838775
END:VEVENT
END:VCALENDAR