BEGIN:VCALENDAR
VERSION:2.0
PRODID:-//Tukios.com/
BEGIN:VEVENT
UID:afdfa00c-5a92-470a-8a17-684f7d60edc6@www.danielsfuneral.com
DTSTAMP:20260422T200220Z
DTSTART:20260507T170000Z
DTEND:20260507T180000Z
SUMMARY:Inurnment
DESCRIPTION:
URL:https://www.danielsfuneral.com/obituaries/corrine-martinez
LOCATION: 924 Menaul Blvd NE  Albuquerque NM 87107
GEO:35.1077324;-106.6328375
END:VEVENT
END:VCALENDAR