BEGIN:VCALENDAR
VERSION:2.0
PRODID:-//Tukios.com/
BEGIN:VEVENT
UID:491cb71a-be6e-4bb4-a3eb-452cadbe8540@www.danielsfuneral.com
DTSTAMP:20260425T014450Z
DTSTART:20260501T163000Z
DTEND:20260501T170000Z
SUMMARY:Rosary
DESCRIPTION:
URL:https://www.danielsfuneral.com/obituaries/dora-sandoval
LOCATION: 7601 Wyoming Blvd  Albuquerque NM 87109
GEO:35.1672982;-106.5608517
END:VEVENT
END:VCALENDAR