BEGIN:VCALENDAR
VERSION:2.0
PRODID:-//Tukios.com/
BEGIN:VEVENT
UID:0ae19aed-e28e-4af3-bbd8-9dabde07f19b@www.danielsfuneral.com
DTSTAMP:20260425T014432Z
DTSTART:20260501T170000Z
DTEND:20260501T180000Z
SUMMARY:Celebration of Life
DESCRIPTION:
URL:https://www.danielsfuneral.com/obituaries/dora-sandoval
LOCATION: 7601 Wyoming Blvd  Albuquerque NM 87109
GEO:35.1672982;-106.5608517
END:VEVENT
END:VCALENDAR