BEGIN:VCALENDAR
VERSION:2.0
PRODID:-//Tukios.com/
BEGIN:VEVENT
UID:8dc9bbc3-c4f2-4a7d-aca5-91623d17319d@www.danielsfuneral.com
DTSTAMP:20260424T003112Z
DTSTART:20260430T173000Z
DTEND:20260430T183000Z
SUMMARY:Burial
DESCRIPTION:Reception following the burial at Prestige Event Center, 2019 
	5th Street NW
URL:https://www.danielsfuneral.com/obituaries/isabel-pena
LOCATION: 1900 Edith Blvd NE  Albuquerque NM 87102
GEO:35.1018254;-106.6357618
END:VEVENT
END:VCALENDAR