BEGIN:VCALENDAR
VERSION:2.0
PRODID:-//Tukios.com/
BEGIN:VEVENT
UID:92bb16fa-dc70-417d-b138-93fe7ec5c302@www.danielsfuneral.com
DTSTAMP:20260425T020930Z
DTSTART:20260428T150000Z
DTEND:20260428T160000Z
SUMMARY:Viewing
DESCRIPTION:
URL:https://www.danielsfuneral.com/obituaries/jeannie-mckee
LOCATION: 4310 Sara Rd  Rio Rancho NM 87124
GEO:35.2283978;-106.6521077
END:VEVENT
END:VCALENDAR