BEGIN:VCALENDAR
VERSION:2.0
PRODID:-//Tukios.com/
BEGIN:VEVENT
UID:adab0a23-918d-48e4-b663-b0c3752862a5@www.danielsfuneral.com
DTSTAMP:20260425T021047Z
DTSTART:20260428T160000Z
DTEND:20260428T170000Z
SUMMARY:Funeral Service
DESCRIPTION:
URL:https://www.danielsfuneral.com/obituaries/jeannie-mckee
LOCATION: 4310 Sara Rd  Rio Rancho NM 87124
GEO:35.2283978;-106.6521077
END:VEVENT
END:VCALENDAR