BEGIN:VCALENDAR
VERSION:2.0
PRODID:-//Tukios.com/
BEGIN:VEVENT
UID:ea8b5f30-735d-42df-aec7-c6e31dce70d2@www.danielsfuneral.com
DTSTAMP:20260425T020747Z
DTSTART:20260428T170000Z
DTEND:20260428T183000Z
SUMMARY:Graveside Service
DESCRIPTION:
URL:https://www.danielsfuneral.com/obituaries/jeannie-mckee
LOCATION: 4310 Sara Rd. SE  Rio Rancho NM 87124
GEO:35.2310009;-106.6508677
END:VEVENT
END:VCALENDAR