BEGIN:VCALENDAR
VERSION:2.0
PRODID:-//Tukios.com/
BEGIN:VEVENT
UID:6f90a0d9-0465-4300-95e9-1a4e625dcda9@www.danielsfuneral.com
DTSTAMP:20260419T211106Z
DTSTART:20260502T160000Z
DTEND:20260502T170000Z
SUMMARY:Memorial Service
DESCRIPTION:
URL:https://www.danielsfuneral.com/obituaries/kendall-schlenker
LOCATION:City on a Hill Church 3715 Silver Avenue Southeast  Albuquerque 
	NM 87108
GEO:35.0788853;-106.6024854
END:VEVENT
END:VCALENDAR