BEGIN:VCALENDAR
VERSION:2.0
PRODID:-//Tukios.com/
BEGIN:VEVENT
UID:8a09ff22-5552-41f7-aa6f-acf68a59d4d3@www.danielsfuneral.com
DTSTAMP:20260422T220006Z
DTSTART:20260428T190000Z
DTEND:20260428T200000Z
SUMMARY:Graveside Service
DESCRIPTION:
URL:https://www.danielsfuneral.com/obituaries/louis-montoya
LOCATION:Vista Verde Memorial Park 4310 Sara Rd  Rio Rancho NM 87124
GEO:35.2283978;-106.6521077
END:VEVENT
END:VCALENDAR