BEGIN:VCALENDAR
VERSION:2.0
PRODID:-//Tukios.com/
BEGIN:VEVENT
UID:0d0e8473-edfb-4d89-be8d-28f24716b717@www.danielsfuneral.com
DTSTAMP:20260423T021200Z
DTSTART:20260521T170000Z
DTEND:20260521T180000Z
SUMMARY:Memorial Service
DESCRIPTION:
URL:https://www.danielsfuneral.com/obituaries/mary-fike
LOCATION: 138 Frontage Rd NE  Rio Rancho NM 87124
GEO:35.2609704;-106.6341961
END:VEVENT
END:VCALENDAR