BEGIN:VCALENDAR
VERSION:2.0
PRODID:-//Tukios.com/
BEGIN:VEVENT
UID:1e541f08-6010-4929-9da4-48f354cf6123@www.danielsfuneral.com
DTSTAMP:20260425T004401Z
DTSTART:20260506T170000Z
DTEND:20260506T180000Z
SUMMARY:Celebration of Life
DESCRIPTION:
URL:https://www.danielsfuneral.com/obituaries/mary-lou-narvaez
LOCATION: 2005 N Plaza St NW  Albuquerque NM 87104
GEO:35.0966999;-106.6699587
END:VEVENT
END:VCALENDAR