BEGIN:VCALENDAR
VERSION:2.0
PRODID:-//Tukios.com/
BEGIN:VEVENT
UID:1e24764e-8242-4ec0-b84e-964fff8726b5@www.danielsfuneral.com
DTSTAMP:20260425T003836Z
DTSTART:20260507T230000Z
DTEND:20260508T010000Z
SUMMARY:Visitation
DESCRIPTION:
URL:https://www.danielsfuneral.com/obituaries/mary-lou-narvaez
LOCATION: 300 E Boutz Rd  Las Cruces NM 88005
GEO:32.2928313;-106.7713634
END:VEVENT
END:VCALENDAR