BEGIN:VCALENDAR
VERSION:2.0
PRODID:-//Tukios.com/
BEGIN:VEVENT
UID:f559bf0b-09cd-464f-8dba-6047289c279c@www.danielsfuneral.com
DTSTAMP:20260425T003718Z
DTSTART:20260508T160000Z
DTEND:20260508T170000Z
SUMMARY:Mass
DESCRIPTION:
URL:https://www.danielsfuneral.com/obituaries/mary-lou-narvaez
LOCATION: 3600 Paroquia Street  Las Cruces  88001
GEO:32.268808;-106.7554079
END:VEVENT
END:VCALENDAR