BEGIN:VCALENDAR
VERSION:2.0
PRODID:-//Tukios.com/
BEGIN:VEVENT
UID:2d3362e4-9d6a-4a14-a3e3-877e8aba3d36@www.danielsfuneral.com
DTSTAMP:20260425T003514Z
DTSTART:20260512
SUMMARY:Graveside Service
DESCRIPTION:TIME TO BE DETERMINED
URL:https://www.danielsfuneral.com/obituaries/mary-lou-narvaez
LOCATION: 5140 W Picacho Ave  Las Cruces  88007
GEO:32.3020201;-106.8528693
END:VEVENT
END:VCALENDAR