BEGIN:VCALENDAR
VERSION:2.0
PRODID:-//Tukios.com/
BEGIN:VEVENT
UID:7dd795b1-06fe-4a77-9403-f7b75b0c03d2@www.danielsfuneral.com
DTSTAMP:20260422T213948Z
DTSTART:20260429T160000Z
DTEND:20260429T170000Z
SUMMARY:Celebration of Life
DESCRIPTION:
URL:https://www.danielsfuneral.com/obituaries/michael-garcia-2026
LOCATION: 4310 Sara Rd  Rio Rancho NM 87124
GEO:35.2283978;-106.6521077
END:VEVENT
END:VCALENDAR