BEGIN:VCALENDAR
VERSION:2.0
PRODID:-//Tukios.com/
BEGIN:VEVENT
UID:cfd15db4-1ffe-4ac1-89a5-b30fdc1c0a0a@www.danielsfuneral.com
DTSTAMP:20260424T223432Z
DTSTART:20260430T000000Z
DTEND:20260430T020000Z
SUMMARY:Visitation
DESCRIPTION:
URL:https://www.danielsfuneral.com/obituaries/michael-maurer
LOCATION: 4310 Sara Rd  Rio Rancho NM 87124
GEO:35.2283978;-106.6521077
END:VEVENT
END:VCALENDAR