BEGIN:VCALENDAR
VERSION:2.0
PRODID:-//Tukios.com/
BEGIN:VEVENT
UID:596d303c-2cb0-4d1c-96a7-2b6c94a5582f@www.danielsfuneral.com
DTSTAMP:20260424T222859Z
DTSTART:20260430T160000Z
DTEND:20260430T170000Z
SUMMARY:Mass
DESCRIPTION:
URL:https://www.danielsfuneral.com/obituaries/michael-maurer
LOCATION: 5015 Corrales Rd  Corrales NM 87048
GEO:35.2322749;-106.613059
END:VEVENT
END:VCALENDAR