BEGIN:VCALENDAR
VERSION:2.0
PRODID:-//Tukios.com/
BEGIN:VEVENT
UID:4076a895-90a5-49f5-8588-60abdccc177c@www.danielsfuneral.com
DTSTAMP:20260424T222655Z
DTSTART:20260430T173000Z
DTEND:20260430T183000Z
SUMMARY:Graveside Service
DESCRIPTION:
URL:https://www.danielsfuneral.com/obituaries/michael-maurer
LOCATION: 4310 Sara Rd. SE  Rio Rancho NM 87124
GEO:35.2310009;-106.6508677
END:VEVENT
END:VCALENDAR