BEGIN:VCALENDAR
VERSION:2.0
PRODID:-//Tukios.com/
BEGIN:VEVENT
UID:5e021563-2649-45cc-8a23-d2c33ca0402c@www.danielsfuneral.com
DTSTAMP:20260421T092016Z
DTSTART:20260417T000000Z
DTEND:20260417T010000Z
SUMMARY:Visitation
DESCRIPTION:
URL:https://www.danielsfuneral.com/obituaries/paula-papponi
LOCATION: 4310 Sara Rd  Rio Rancho NM 87124
GEO:35.2283978;-106.6521077
END:VEVENT
END:VCALENDAR