BEGIN:VCALENDAR
VERSION:2.0
PRODID:-//Tukios.com/
BEGIN:VEVENT
UID:7d150355-55d3-4687-bd48-a260e1a33582@www.danielsfuneral.com
DTSTAMP:20260421T091935Z
DTSTART:20260417T190000Z
DTEND:20260417T200000Z
SUMMARY:Graveside Service
DESCRIPTION:
URL:https://www.danielsfuneral.com/obituaries/paula-papponi
LOCATION:Gate of Heaven Catholic Cemetery 7999 Wyoming Blvd NE  
	Albuquerque NM 87109
GEO:35.1726123;-106.5624583
END:VEVENT
END:VCALENDAR