BEGIN:VCALENDAR
VERSION:2.0
PRODID:-//Tukios.com/
BEGIN:VEVENT
UID:7506e092-1236-442d-ba9d-92b9b71d6eb3@www.danielsfuneral.com
DTSTAMP:20260421T193449Z
DTSTART:20260424T153000Z
DTEND:20260424T160000Z
SUMMARY:Rosary
DESCRIPTION:
URL:https://www.danielsfuneral.com/obituaries/theresa-gabel
LOCATION: 7701 Wyoming Blvd NE  Albuquerque NM 87109
GEO:35.1687378;-106.5608931
END:VEVENT
END:VCALENDAR