BEGIN:VCALENDAR
VERSION:2.0
PRODID:-//Tukios.com/
BEGIN:VEVENT
UID:b3846239-bcc1-4706-9bac-1882d9a17be8@www.danielsfuneral.com
DTSTAMP:20260421T193449Z
DTSTART:20260424T160000Z
DTEND:20260424T170000Z
SUMMARY:Mass
DESCRIPTION:
URL:https://www.danielsfuneral.com/obituaries/theresa-gabel
LOCATION: 7701 Wyoming Blvd NE  Albuquerque NM 87109
GEO:35.1687378;-106.5608931
END:VEVENT
END:VCALENDAR